Package: gcrma Version: 2.79.0 Command: /home/rapidbuild/bbs-3.21-bioc-rapid/R/bin/R CMD check --install=check:gcrma.install-out.txt --library=/home/rapidbuild/bbs-3.21-bioc-rapid/R/site-library --timings gcrma_2.79.0.tar.gz StartedAt: 2025-01-31 08:36:30 -0500 (Fri, 31 Jan 2025) EndedAt: 2025-01-31 08:37:50 -0500 (Fri, 31 Jan 2025) EllapsedTime: 79.6 seconds RetCode: 0 Status: OK CheckDir: gcrma.Rcheck Warnings: 0