Package: fmcsR Version: 1.49.0 Command: /home/rapidbuild/bbs-3.21-bioc-rapid/R/bin/R CMD INSTALL fmcsR StartedAt: 2025-01-31 06:17:09 -0500 (Fri, 31 Jan 2025) EndedAt: 2025-01-31 06:17:30 -0500 (Fri, 31 Jan 2025) EllapsedTime: 21.5 seconds RetCode: 0 Status: OK