Package: flowWorkspace Version: 4.19.0 Command: /home/rapidbuild/bbs-3.21-bioc-rapid/R/bin/R CMD check --install=check:flowWorkspace.install-out.txt --library=/home/rapidbuild/bbs-3.21-bioc-rapid/R/site-library --timings flowWorkspace_4.19.0.tar.gz StartedAt: 2025-01-31 08:33:59 -0500 (Fri, 31 Jan 2025) EndedAt: 2025-01-31 08:36:30 -0500 (Fri, 31 Jan 2025) EllapsedTime: 150.7 seconds RetCode: 0 Status: WARNINGS CheckDir: flowWorkspace.Rcheck Warnings: 5