Package: flowViz Version: 1.71.0 Command: /home/rapidbuild/bbs-3.21-bioc-rapid/R/bin/R CMD build --keep-empty-dirs --no-resave-data flowViz StartedAt: 2025-02-07 00:54:45 -0500 (Fri, 07 Feb 2025) EndedAt: 2025-02-07 00:55:37 -0500 (Fri, 07 Feb 2025) EllapsedTime: 51.9 seconds RetCode: 0 Status: OK PackageFile: flowViz_1.71.0.tar.gz PackageFileSize: 989.2 KiB