Package: flowClust Version: 3.45.0 Command: /home/rapidbuild/bbs-3.21-bioc-rapid/R/bin/R CMD check --install=check:flowClust.install-out.txt --library=/home/rapidbuild/bbs-3.21-bioc-rapid/R/site-library --timings flowClust_3.45.0.tar.gz StartedAt: 2025-02-11 20:24:34 -0500 (Tue, 11 Feb 2025) EndedAt: 2025-02-11 20:27:11 -0500 (Tue, 11 Feb 2025) EllapsedTime: 157.4 seconds RetCode: 0 Status: WARNINGS CheckDir: flowClust.Rcheck Warnings: 1