Package: flowClust Version: 3.45.0 Command: /home/rapidbuild/bbs-3.21-bioc-rapid/R/bin/R CMD build --keep-empty-dirs --no-resave-data flowClust StartedAt: 2025-02-12 06:23:16 -0500 (Wed, 12 Feb 2025) EndedAt: 2025-02-12 06:23:17 -0500 (Wed, 12 Feb 2025) EllapsedTime: 1.0 seconds RetCode: 1 Status: ERROR PackageFile: None PackageFileSize: NA