Package: fishpond Version: 2.13.0 Command: /home/rapidbuild/bbs-3.21-bioc-rapid/R/bin/R CMD build --keep-empty-dirs --no-resave-data fishpond StartedAt: 2025-01-31 06:49:37 -0500 (Fri, 31 Jan 2025) EndedAt: 2025-01-31 06:52:59 -0500 (Fri, 31 Jan 2025) EllapsedTime: 202.8 seconds RetCode: 0 Status: OK PackageFile: fishpond_2.13.0.tar.gz PackageFileSize: 3.915 MiB