Package: fgsea Version: 1.33.2 Command: /home/rapidbuild/bbs-3.21-bioc-rapid/R/bin/R CMD check --install=check:fgsea.install-out.txt --library=/home/rapidbuild/bbs-3.21-bioc-rapid/R/site-library --timings fgsea_1.33.2.tar.gz StartedAt: 2025-01-31 08:26:38 -0500 (Fri, 31 Jan 2025) EndedAt: 2025-01-31 08:39:20 -0500 (Fri, 31 Jan 2025) EllapsedTime: 761.5 seconds RetCode: 0 Status: OK CheckDir: fgsea.Rcheck Warnings: 0