Package: fgsea Version: 1.33.2 Command: /home/rapidbuild/bbs-3.21-bioc-rapid/R/bin/R CMD build --keep-empty-dirs --no-resave-data fgsea StartedAt: 2025-01-31 06:48:49 -0500 (Fri, 31 Jan 2025) EndedAt: 2025-01-31 06:53:18 -0500 (Fri, 31 Jan 2025) EllapsedTime: 268.4 seconds RetCode: 0 Status: OK PackageFile: fgsea_1.33.2.tar.gz PackageFileSize: 4.748 MiB