Package: eds Version: 1.9.0 Command: /home/rapidbuild/bbs-3.21-bioc-rapid/R/bin/R CMD INSTALL eds StartedAt: 2025-01-31 06:08:28 -0500 (Fri, 31 Jan 2025) EndedAt: 2025-01-31 06:08:37 -0500 (Fri, 31 Jan 2025) EllapsedTime: 9.0 seconds RetCode: 0 Status: OK