Package: edgeR Version: 4.5.2 Command: /home/rapidbuild/bbs-3.21-bioc-rapid/R/bin/R CMD INSTALL edgeR StartedAt: 2025-02-07 00:09:04 -0500 (Fri, 07 Feb 2025) EndedAt: 2025-02-07 00:09:14 -0500 (Fri, 07 Feb 2025) EllapsedTime: 10.7 seconds RetCode: 0 Status: OK