Package: densvis Version: 1.17.0 Command: /home/rapidbuild/bbs-3.21-bioc-rapid/R/bin/R CMD check --install=check:densvis.install-out.txt --library=/home/rapidbuild/bbs-3.21-bioc-rapid/R/site-library --timings densvis_1.17.0.tar.gz StartedAt: 2025-01-31 08:17:27 -0500 (Fri, 31 Jan 2025) EndedAt: 2025-01-31 08:19:48 -0500 (Fri, 31 Jan 2025) EllapsedTime: 141.3 seconds RetCode: 0 Status: OK CheckDir: densvis.Rcheck Warnings: 0