Package: cytolib Version: 2.19.3 Command: /home/rapidbuild/bbs-3.21-bioc-rapid/R/bin/R CMD INSTALL cytolib StartedAt: 2025-02-01 12:08:27 -0500 (Sat, 01 Feb 2025) EndedAt: 2025-02-01 12:10:39 -0500 (Sat, 01 Feb 2025) EllapsedTime: 132.3 seconds RetCode: 0 Status: OK