Package: cytolib Version: 2.19.3 Command: /home/rapidbuild/bbs-3.21-bioc-rapid/R/bin/R CMD build --keep-empty-dirs --no-resave-data cytolib StartedAt: 2025-02-07 00:42:27 -0500 (Fri, 07 Feb 2025) EndedAt: 2025-02-07 00:44:42 -0500 (Fri, 07 Feb 2025) EllapsedTime: 135.6 seconds RetCode: 0 Status: OK PackageFile: cytolib_2.19.3.tar.gz PackageFileSize: 5.786 MiB