Package: csaw Version: 1.41.2 Command: /home/rapidbuild/bbs-3.21-bioc-rapid/R/bin/R CMD INSTALL csaw StartedAt: 2025-01-31 06:23:51 -0500 (Fri, 31 Jan 2025) EndedAt: 2025-01-31 06:24:59 -0500 (Fri, 31 Jan 2025) EllapsedTime: 68.1 seconds RetCode: 0 Status: OK