Package: csaw Version: 1.41.2 Command: /home/rapidbuild/bbs-3.21-bioc-rapid/R/bin/R CMD build --keep-empty-dirs --no-resave-data csaw StartedAt: 2025-01-31 06:41:24 -0500 (Fri, 31 Jan 2025) EndedAt: 2025-01-31 06:42:32 -0500 (Fri, 31 Jan 2025) EllapsedTime: 67.9 seconds RetCode: 0 Status: OK PackageFile: csaw_1.41.2.tar.gz PackageFileSize: 389.3 KiB