Package: chihaya Version: 1.7.0 Command: /home/rapidbuild/bbs-3.21-bioc-rapid/R/bin/R CMD build --keep-empty-dirs --no-resave-data chihaya StartedAt: 2025-01-31 06:40:18 -0500 (Fri, 31 Jan 2025) EndedAt: 2025-01-31 06:40:59 -0500 (Fri, 31 Jan 2025) EllapsedTime: 41.3 seconds RetCode: 0 Status: OK PackageFile: chihaya_1.7.0.tar.gz PackageFileSize: 258.3 KiB