Package: biomformat Version: 1.35.0 Command: /home/rapidbuild/bbs-3.21-bioc-rapid/R/bin/R CMD build --keep-empty-dirs --no-resave-data biomformat StartedAt: 2025-02-12 06:21:55 -0500 (Wed, 12 Feb 2025) EndedAt: 2025-02-12 06:22:00 -0500 (Wed, 12 Feb 2025) EllapsedTime: 5.6 seconds RetCode: 1 Status: ERROR PackageFile: None PackageFileSize: NA