Package: biomaRt Version: 2.63.1 Command: /home/rapidbuild/bbs-3.21-bioc-rapid/R/bin/R CMD check --install=check:biomaRt.install-out.txt --library=/home/rapidbuild/bbs-3.21-bioc-rapid/R/site-library --timings biomaRt_2.63.1.tar.gz StartedAt: 2025-01-31 08:06:01 -0500 (Fri, 31 Jan 2025) EndedAt: 2025-01-31 08:08:23 -0500 (Fri, 31 Jan 2025) EllapsedTime: 142.3 seconds RetCode: 0 Status: OK CheckDir: biomaRt.Rcheck Warnings: 0