Package: biomaRt Version: 2.63.1 Command: /home/rapidbuild/bbs-3.21-bioc-rapid/R/bin/R CMD build --keep-empty-dirs --no-resave-data biomaRt StartedAt: 2025-01-31 06:37:28 -0500 (Fri, 31 Jan 2025) EndedAt: 2025-01-31 06:39:13 -0500 (Fri, 31 Jan 2025) EllapsedTime: 105.0 seconds RetCode: 0 Status: OK PackageFile: biomaRt_2.63.1.tar.gz PackageFileSize: 843.3 KiB