Package: biocthis Version: 1.17.0 Command: /home/rapidbuild/bbs-3.21-bioc-rapid/R/bin/R CMD INSTALL biocthis StartedAt: 2025-01-31 06:14:50 -0500 (Fri, 31 Jan 2025) EndedAt: 2025-01-31 06:14:55 -0500 (Fri, 31 Jan 2025) EllapsedTime: 4.4 seconds RetCode: 0 Status: OK