Package: biocthis Version: 1.17.0 Command: /home/rapidbuild/bbs-3.21-bioc-rapid/R/bin/R CMD build --keep-empty-dirs --no-resave-data biocthis StartedAt: 2025-01-31 06:37:02 -0500 (Fri, 31 Jan 2025) EndedAt: 2025-01-31 06:37:17 -0500 (Fri, 31 Jan 2025) EllapsedTime: 15.0 seconds RetCode: 0 Status: OK PackageFile: biocthis_1.17.0.tar.gz PackageFileSize: 658.1 KiB