############################################################################## ############################################################################## ### ### Running command: ### ### /home/rapidbuild/bbs-3.21-bioc-rapid/R/bin/R CMD INSTALL biocViews ### ############################################################################## ############################################################################## Fatal error: cannot create 'R_TempDir'