Package: beachmat.hdf5 Version: 1.5.1 Command: /home/rapidbuild/bbs-3.21-bioc-rapid/R/bin/R CMD check --install=check:beachmat.hdf5.install-out.txt --library=/home/rapidbuild/bbs-3.21-bioc-rapid/R/site-library --timings beachmat.hdf5_1.5.1.tar.gz StartedAt: 2025-02-01 13:48:55 -0500 (Sat, 01 Feb 2025) EndedAt: 2025-02-01 13:50:43 -0500 (Sat, 01 Feb 2025) EllapsedTime: 108.0 seconds RetCode: 0 Status: WARNINGS CheckDir: beachmat.hdf5.Rcheck Warnings: 1