Package: batchelor Version: 1.23.0 Command: /home/rapidbuild/bbs-3.21-bioc-rapid/R/bin/R CMD build --keep-empty-dirs --no-resave-data batchelor StartedAt: 2025-01-31 06:34:06 -0500 (Fri, 31 Jan 2025) EndedAt: 2025-01-31 06:36:51 -0500 (Fri, 31 Jan 2025) EllapsedTime: 165.2 seconds RetCode: 0 Status: OK PackageFile: batchelor_1.23.0.tar.gz PackageFileSize: 1.969 MiB