Package: basilisk.utils Version: 1.19.1 Maintainer: Aaron Lun MaintainerEmail: infinite.monkeys.with.keyboards at gmail.com git_url: https://git.bioconductor.org/packages/basilisk.utils git_branch: devel git_last_commit: 8058e30 git_last_commit_date: 2025-02-11 16:29:53 -0500 (Tue, 11 Feb 2025)