Package: aroma.light Version: 3.37.0 Command: /home/rapidbuild/bbs-3.21-bioc-rapid/R/bin/R CMD INSTALL aroma.light StartedAt: 2025-01-31 06:09:24 -0500 (Fri, 31 Jan 2025) EndedAt: 2025-01-31 06:09:28 -0500 (Fri, 31 Jan 2025) EllapsedTime: 4.2 seconds RetCode: 0 Status: OK