Package: apeglm Version: 1.29.0 Command: /home/rapidbuild/bbs-3.21-bioc-rapid/R/bin/R CMD INSTALL apeglm StartedAt: 2025-01-31 06:19:18 -0500 (Fri, 31 Jan 2025) EndedAt: 2025-01-31 06:20:11 -0500 (Fri, 31 Jan 2025) EllapsedTime: 53.3 seconds RetCode: 0 Status: OK