Package: apeglm Version: 1.29.0 Command: /home/rapidbuild/bbs-3.21-bioc-rapid/R/bin/R CMD build --keep-empty-dirs --no-resave-data apeglm StartedAt: 2025-01-21 06:32:00 -0500 (Tue, 21 Jan 2025) EndedAt: 2025-01-21 06:33:23 -0500 (Tue, 21 Jan 2025) EllapsedTime: 82.9 seconds RetCode: 0 Status: OK PackageFile: apeglm_1.29.0.tar.gz PackageFileSize: 1.203 MiB