Package: annotate Version: 1.85.0 Command: /home/rapidbuild/bbs-3.21-bioc-rapid/R/bin/R CMD INSTALL annotate StartedAt: 2025-02-07 00:23:07 -0500 (Fri, 07 Feb 2025) EndedAt: 2025-02-07 00:23:20 -0500 (Fri, 07 Feb 2025) EllapsedTime: 13.4 seconds RetCode: 0 Status: OK