Package: annotate Version: 1.85.0 Command: /home/rapidbuild/bbs-3.21-bioc-rapid/R/bin/R CMD build --keep-empty-dirs --no-resave-data annotate StartedAt: 2025-01-31 06:31:48 -0500 (Fri, 31 Jan 2025) EndedAt: 2025-01-31 06:32:42 -0500 (Fri, 31 Jan 2025) EllapsedTime: 53.6 seconds RetCode: 0 Status: OK PackageFile: annotate_1.85.0.tar.gz PackageFileSize: 1.786 MiB