Package: alabaster.se Version: 1.7.0 Command: /home/rapidbuild/bbs-3.21-bioc-rapid/R/bin/R CMD INSTALL alabaster.se StartedAt: 2025-02-12 06:12:05 -0500 (Wed, 12 Feb 2025) EndedAt: 2025-02-12 06:12:29 -0500 (Wed, 12 Feb 2025) EllapsedTime: 23.6 seconds RetCode: 0 Status: OK