Package: alabaster.ranges Version: 1.7.0 Command: /home/rapidbuild/bbs-3.21-bioc-rapid/R/bin/R CMD INSTALL alabaster.ranges StartedAt: 2025-02-07 00:18:59 -0500 (Fri, 07 Feb 2025) EndedAt: 2025-02-07 00:19:11 -0500 (Fri, 07 Feb 2025) EllapsedTime: 11.4 seconds RetCode: 0 Status: OK