Package: alabaster.ranges Version: 1.7.0 Command: /home/rapidbuild/bbs-3.21-bioc-rapid/R/bin/R CMD check --install=check:alabaster.ranges.install-out.txt --library=/home/rapidbuild/bbs-3.21-bioc-rapid/R/site-library --timings alabaster.ranges_1.7.0.tar.gz StartedAt: 2025-01-31 07:53:04 -0500 (Fri, 31 Jan 2025) EndedAt: 2025-01-31 07:54:16 -0500 (Fri, 31 Jan 2025) EllapsedTime: 71.7 seconds RetCode: 0 Status: OK CheckDir: alabaster.ranges.Rcheck Warnings: 0