Package: alabaster.matrix Version: 1.7.6 Command: /home/rapidbuild/bbs-3.21-bioc-rapid/R/bin/R CMD INSTALL alabaster.matrix StartedAt: 2025-02-01 12:14:10 -0500 (Sat, 01 Feb 2025) EndedAt: 2025-02-01 12:14:34 -0500 (Sat, 01 Feb 2025) EllapsedTime: 24.2 seconds RetCode: 0 Status: OK