Package: alabaster.matrix Version: 1.7.6 Command: /home/rapidbuild/bbs-3.21-bioc-rapid/R/bin/R CMD check --install=check:alabaster.matrix.install-out.txt --library=/home/rapidbuild/bbs-3.21-bioc-rapid/R/site-library --timings alabaster.matrix_1.7.6.tar.gz StartedAt: 2025-02-01 13:41:17 -0500 (Sat, 01 Feb 2025) EndedAt: 2025-02-01 13:44:07 -0500 (Sat, 01 Feb 2025) EllapsedTime: 169.9 seconds RetCode: 0 Status: OK CheckDir: alabaster.matrix.Rcheck Warnings: 0