Package: alabaster.matrix Version: 1.7.6 Command: /home/rapidbuild/bbs-3.21-bioc-rapid/R/bin/R CMD build --keep-empty-dirs --no-resave-data alabaster.matrix StartedAt: 2025-02-01 12:27:20 -0500 (Sat, 01 Feb 2025) EndedAt: 2025-02-01 12:27:52 -0500 (Sat, 01 Feb 2025) EllapsedTime: 32.0 seconds RetCode: 0 Status: OK PackageFile: alabaster.matrix_1.7.6.tar.gz PackageFileSize: 273.5 KiB