Package: affyPLM Version: 1.83.3 Command: /home/rapidbuild/bbs-3.21-bioc-rapid/R/bin/R CMD build --keep-empty-dirs --no-resave-data affyPLM StartedAt: 2025-01-31 06:30:28 -0500 (Fri, 31 Jan 2025) EndedAt: 2025-01-31 06:31:58 -0500 (Fri, 31 Jan 2025) EllapsedTime: 89.8 seconds RetCode: 0 Status: OK PackageFile: affyPLM_1.83.3.tar.gz PackageFileSize: 7.159 MiB