Package: affy Version: 1.85.1 Command: /home/rapidbuild/bbs-3.21-bioc-rapid/R/bin/R CMD check --install=check:affy.install-out.txt --library=/home/rapidbuild/bbs-3.21-bioc-rapid/R/site-library --timings affy_1.85.1.tar.gz StartedAt: 2025-01-31 07:52:52 -0500 (Fri, 31 Jan 2025) EndedAt: 2025-01-31 07:54:57 -0500 (Fri, 31 Jan 2025) EllapsedTime: 124.6 seconds RetCode: 0 Status: WARNINGS CheckDir: affy.Rcheck Warnings: 1