Package: affxparser Version: 1.79.1 Command: /home/rapidbuild/bbs-3.21-bioc-rapid/R/bin/R CMD check --install=check:affxparser.install-out.txt --library=/home/rapidbuild/bbs-3.21-bioc-rapid/R/site-library --timings affxparser_1.79.1.tar.gz StartedAt: 2025-01-31 07:52:52 -0500 (Fri, 31 Jan 2025) EndedAt: 2025-01-31 07:53:21 -0500 (Fri, 31 Jan 2025) EllapsedTime: 29.3 seconds RetCode: 0 Status: WARNINGS CheckDir: affxparser.Rcheck Warnings: 2