Package: affxparser Version: 1.79.1 Command: /home/rapidbuild/bbs-3.21-bioc-rapid/R/bin/R CMD build --keep-empty-dirs --no-resave-data affxparser StartedAt: 2025-01-31 06:30:28 -0500 (Fri, 31 Jan 2025) EndedAt: 2025-01-31 06:30:31 -0500 (Fri, 31 Jan 2025) EllapsedTime: 3.3 seconds RetCode: 0 Status: OK PackageFile: affxparser_1.79.1.tar.gz PackageFileSize: 782.8 KiB