Package: XVector Version: 0.47.2 Command: /home/rapidbuild/bbs-3.21-bioc-rapid/R/bin/R CMD INSTALL XVector StartedAt: 2025-02-12 06:08:08 -0500 (Wed, 12 Feb 2025) EndedAt: 2025-02-12 06:08:19 -0500 (Wed, 12 Feb 2025) EllapsedTime: 11.3 seconds RetCode: 0 Status: OK