Package: XVector Version: 0.47.2 Command: /home/rapidbuild/bbs-3.21-bioc-rapid/R/bin/R CMD check --install=check:XVector.install-out.txt --library=/home/rapidbuild/bbs-3.21-bioc-rapid/R/site-library --timings XVector_0.47.2.tar.gz StartedAt: 2025-02-07 03:53:34 -0500 (Fri, 07 Feb 2025) EndedAt: 2025-02-07 03:54:37 -0500 (Fri, 07 Feb 2025) EllapsedTime: 63.3 seconds RetCode: 0 Status: WARNINGS CheckDir: XVector.Rcheck Warnings: 2