Package: XVector Version: 0.47.2 Command: /home/rapidbuild/bbs-3.21-bioc-rapid/R/bin/R CMD build --keep-empty-dirs --no-resave-data XVector StartedAt: 2025-02-07 01:45:24 -0500 (Fri, 07 Feb 2025) EndedAt: 2025-02-07 01:45:25 -0500 (Fri, 07 Feb 2025) EllapsedTime: 1.0 seconds RetCode: 0 Status: OK PackageFile: XVector_0.47.2.tar.gz PackageFileSize: 66.35 KiB