Package: Wrench Version: 1.25.0 Command: /home/rapidbuild/bbs-3.21-bioc-rapid/R/bin/R CMD build --keep-empty-dirs --no-resave-data Wrench StartedAt: 2025-02-01 13:37:21 -0500 (Sat, 01 Feb 2025) EndedAt: 2025-02-01 13:37:57 -0500 (Sat, 01 Feb 2025) EllapsedTime: 35.3 seconds RetCode: 0 Status: OK PackageFile: Wrench_1.25.0.tar.gz PackageFileSize: 224.9 KiB