Package: VariantAnnotation Version: 1.53.1 Command: /home/rapidbuild/bbs-3.21-bioc-rapid/R/bin/R CMD INSTALL VariantAnnotation StartedAt: 2025-02-07 00:27:41 -0500 (Fri, 07 Feb 2025) EndedAt: 2025-02-07 00:28:45 -0500 (Fri, 07 Feb 2025) EllapsedTime: 64.2 seconds RetCode: 0 Status: OK