Package: VariantAnnotation Version: 1.53.1 Command: /home/rapidbuild/bbs-3.21-bioc-rapid/R/bin/R CMD build --keep-empty-dirs --no-resave-data VariantAnnotation StartedAt: 2025-01-31 07:47:50 -0500 (Fri, 31 Jan 2025) EndedAt: 2025-01-31 07:50:12 -0500 (Fri, 31 Jan 2025) EllapsedTime: 142.2 seconds RetCode: 0 Status: OK PackageFile: VariantAnnotation_1.53.1.tar.gz PackageFileSize: 2.045 MiB