Package: UCSC.utils Version: 1.3.1 Command: /home/rapidbuild/bbs-3.21-bioc-rapid/R/bin/R CMD INSTALL UCSC.utils StartedAt: 2025-01-31 06:18:00 -0500 (Fri, 31 Jan 2025) EndedAt: 2025-01-31 06:18:04 -0500 (Fri, 31 Jan 2025) EllapsedTime: 3.5 seconds RetCode: 0 Status: OK