Package: TCGAbiolinks Version: 2.35.1 Command: /home/rapidbuild/bbs-3.21-bioc-rapid/R/bin/R CMD INSTALL TCGAbiolinks StartedAt: 2025-01-31 06:22:56 -0500 (Fri, 31 Jan 2025) EndedAt: 2025-01-31 06:23:33 -0500 (Fri, 31 Jan 2025) EllapsedTime: 36.4 seconds RetCode: 0 Status: OK