Package: SpatialExperiment Version: 1.17.0 Command: /home/rapidbuild/bbs-3.21-bioc-rapid/R/bin/R CMD INSTALL SpatialExperiment StartedAt: 2025-02-07 00:21:03 -0500 (Fri, 07 Feb 2025) EndedAt: 2025-02-07 00:21:28 -0500 (Fri, 07 Feb 2025) EllapsedTime: 24.4 seconds RetCode: 0 Status: OK